############################################################################## ############################################################################## ### ### Running command: ### ### rm -rf GSALightning.buildbin-libdir && mkdir GSALightning.buildbin-libdir && /Users/biocbuild/BBS/utils/build-universal.sh GSALightning_1.36.0.tar.gz /Library/Frameworks/R.framework/Resources/bin/R GSALightning.buildbin-libdir ### ############################################################################## ############################################################################## >>>>>>> >>>>>>> INSTALLATION WITH 'R CMD INSTALL --preclean --no-multiarch --library=GSALightning.buildbin-libdir GSALightning_1.36.0.tar.gz' >>>>>>> * installing *source* package ‘GSALightning’ ... ** this is package ‘GSALightning’ version ‘1.36.0’ ** using staged installation ** R ** data ** inst ** byte-compile and prepare package for lazy loading ** help *** installing help indices ** building package indices ** installing vignettes ** testing if installed package can be loaded from temporary location ** testing if installed package can be loaded from final location ** testing if installed package keeps a record of temporary installation path * DONE (GSALightning) chown: GSALightning.buildbin-libdir/GSALightning/LICENSE: Operation not permitted chown: GSALightning.buildbin-libdir/GSALightning/R/GSALightning.rdx: Operation not permitted chown: GSALightning.buildbin-libdir/GSALightning/R/GSALightning.rdb: Operation not permitted chown: GSALightning.buildbin-libdir/GSALightning/R/GSALightning: Operation not permitted chown: GSALightning.buildbin-libdir/GSALightning/R: Operation not permitted chown: GSALightning.buildbin-libdir/GSALightning/Meta/vignette.rds: Operation not permitted chown: GSALightning.buildbin-libdir/GSALightning/Meta/data.rds: Operation not permitted chown: GSALightning.buildbin-libdir/GSALightning/Meta/links.rds: Operation not permitted chown: GSALightning.buildbin-libdir/GSALightning/Meta/features.rds: Operation not permitted chown: GSALightning.buildbin-libdir/GSALightning/Meta/nsInfo.rds: Operation not permitted chown: GSALightning.buildbin-libdir/GSALightning/Meta/package.rds: Operation not permitted chown: GSALightning.buildbin-libdir/GSALightning/Meta/hsearch.rds: Operation not permitted chown: GSALightning.buildbin-libdir/GSALightning/Meta/Rd.rds: Operation not permitted chown: GSALightning.buildbin-libdir/GSALightning/Meta: Operation not permitted chown: GSALightning.buildbin-libdir/GSALightning/NAMESPACE: Operation not permitted chown: GSALightning.buildbin-libdir/GSALightning/html/R.css: Operation not permitted chown: GSALightning.buildbin-libdir/GSALightning/html/00Index.html: Operation not permitted chown: GSALightning.buildbin-libdir/GSALightning/html: Operation not permitted chown: GSALightning.buildbin-libdir/GSALightning/DESCRIPTION: Operation not permitted chown: GSALightning.buildbin-libdir/GSALightning/NEWS: Operation not permitted chown: GSALightning.buildbin-libdir/GSALightning/INDEX: Operation not permitted chown: GSALightning.buildbin-libdir/GSALightning/doc/index.html: Operation not permitted chown: GSALightning.buildbin-libdir/GSALightning/doc/vignette.R: Operation not permitted chown: GSALightning.buildbin-libdir/GSALightning/doc/vignette.html: Operation not permitted chown: GSALightning.buildbin-libdir/GSALightning/doc/vignette.Rmd: Operation not permitted chown: GSALightning.buildbin-libdir/GSALightning/doc: Operation not permitted chown: GSALightning.buildbin-libdir/GSALightning/data/sampleInfo.rda: Operation not permitted chown: GSALightning.buildbin-libdir/GSALightning/data/targetGenes.rda: Operation not permitted chown: GSALightning.buildbin-libdir/GSALightning/data/datalist: Operation not permitted chown: GSALightning.buildbin-libdir/GSALightning/data/expression.rda: Operation not permitted chown: GSALightning.buildbin-libdir/GSALightning/data: Operation not permitted chown: GSALightning.buildbin-libdir/GSALightning/help/AnIndex: Operation not permitted chown: GSALightning.buildbin-libdir/GSALightning/help/aliases.rds: Operation not permitted chown: GSALightning.buildbin-libdir/GSALightning/help/paths.rds: Operation not permitted chown: GSALightning.buildbin-libdir/GSALightning/help/GSALightning.rdx: Operation not permitted chown: GSALightning.buildbin-libdir/GSALightning/help/GSALightning.rdb: Operation not permitted chown: GSALightning.buildbin-libdir/GSALightning/help: Operation not permitted chown: GSALightning.buildbin-libdir/GSALightning: Operation not permitted