Package: GSALightning
Version: 1.34.0
Command: /Library/Frameworks/R.framework/Resources/bin/R CMD check --install=check:GSALightning.install-out.txt --library=/Library/Frameworks/R.framework/Resources/library --no-vignettes --timings GSALightning_1.34.0.tar.gz
StartedAt: 2024-11-09 04:02:36 -0500 (Sat, 09 Nov 2024)
EndedAt: 2024-11-09 04:06:38 -0500 (Sat, 09 Nov 2024)
EllapsedTime: 241.3 seconds
RetCode: 0
Status: OK
CheckDir: GSALightning.Rcheck
Warnings: 0