Package: GSALightning Version: 1.36.0 Command: /Library/Frameworks/R.framework/Resources/bin/R CMD INSTALL GSALightning StartedAt: 2025-05-01 15:11:43 -0400 (Thu, 01 May 2025) EndedAt: 2025-05-01 15:11:49 -0400 (Thu, 01 May 2025) EllapsedTime: 6.0 seconds RetCode: 0 Status: OK