Package: GSALightning
Version: 1.34.0
Command: rm -rf GSALightning.buildbin-libdir && mkdir GSALightning.buildbin-libdir && /Users/biocbuild/BBS/utils/build-universal.sh GSALightning_1.34.0.tar.gz /Library/Frameworks/R.framework/Resources/bin/R GSALightning.buildbin-libdir
StartedAt: 2025-02-12 15:22:15 -0500 (Wed, 12 Feb 2025)
EndedAt: 2025-02-12 15:22:23 -0500 (Wed, 12 Feb 2025)
EllapsedTime: 7.8 seconds
RetCode: 0
Status: OK
PackageFile: GSALightning_1.34.0.tgz
PackageFileSize: 4.305 <A href="http://en.wikipedia.org/wiki/MiB" target="_blank">MiB</A>