Package: GRENITS Version: 1.60.0 Command: /Library/Frameworks/R.framework/Resources/bin/R CMD build --keep-empty-dirs --no-resave-data GRENITS StartedAt: 2025-05-05 19:22:52 -0400 (Mon, 05 May 2025) EndedAt: 2025-05-05 19:26:16 -0400 (Mon, 05 May 2025) EllapsedTime: 203.8 seconds RetCode: 0 Status: OK PackageFile: GRENITS_1.60.0.tar.gz PackageFileSize: 266.2 KiB