Package: GRENITS Version: 1.60.0 Command: /Library/Frameworks/R.framework/Resources/bin/R CMD INSTALL GRENITS StartedAt: 2025-04-21 15:08:15 -0400 (Mon, 21 Apr 2025) EndedAt: 2025-04-21 15:09:15 -0400 (Mon, 21 Apr 2025) EllapsedTime: 60.1 seconds RetCode: 0 Status: OK