Package: GRENITS Version: 1.60.0 Command: /home/biocbuild/R/R/bin/R CMD INSTALL GRENITS StartedAt: 2025-04-21 20:18:37 -0000 (Mon, 21 Apr 2025) EndedAt: 2025-04-21 20:20:51 -0000 (Mon, 21 Apr 2025) EllapsedTime: 134.3 seconds RetCode: 0 Status: OK