Package: GRENITS Version: 1.60.0 Command: rm -rf GRENITS.buildbin-libdir && mkdir GRENITS.buildbin-libdir && /Users/biocbuild/BBS/utils/build-universal.sh GRENITS_1.60.0.tar.gz /Library/Frameworks/R.framework/Resources/bin/R GRENITS.buildbin-libdir StartedAt: 2025-04-21 22:37:34 -0400 (Mon, 21 Apr 2025) EndedAt: 2025-04-21 22:37:58 -0400 (Mon, 21 Apr 2025) EllapsedTime: 24.5 seconds RetCode: 0 Status: OK PackageFile: GRENITS_1.60.0.tgz PackageFileSize: 529.1 KiB