Package: GRENITS Version: 1.58.0 Command: /Library/Frameworks/R.framework/Resources/bin/R CMD INSTALL GRENITS StartedAt: 2025-01-30 15:35:06 -0500 (Thu, 30 Jan 2025) EndedAt: 2025-01-30 15:36:16 -0500 (Thu, 30 Jan 2025) EllapsedTime: 70.2 seconds RetCode: 0 Status: OK