Package: GRENITS Version: 1.58.0 Command: /Library/Frameworks/R.framework/Resources/bin/R CMD build --keep-empty-dirs --no-resave-data GRENITS StartedAt: 2025-01-31 00:59:37 -0500 (Fri, 31 Jan 2025) EndedAt: 2025-01-31 01:01:14 -0500 (Fri, 31 Jan 2025) EllapsedTime: 97.2 seconds RetCode: 0 Status: OK PackageFile: GRENITS_1.58.0.tar.gz PackageFileSize: 266.9 KiB