Package: GRENITS Version: 1.58.0 Command: rm -rf GRENITS.buildbin-libdir && mkdir GRENITS.buildbin-libdir && /Users/biocbuild/BBS/utils/build-universal.sh GRENITS_1.58.0.tar.gz /Library/Frameworks/R.framework/Resources/bin/R GRENITS.buildbin-libdir StartedAt: 2025-02-01 15:12:05 -0500 (Sat, 01 Feb 2025) EndedAt: 2025-02-01 15:13:25 -0500 (Sat, 01 Feb 2025) EllapsedTime: 79.9 seconds RetCode: 0 Status: OK PackageFile: GRENITS_1.58.0.tgz PackageFileSize: 529.6 KiB