Package: GOpro Version: 1.34.0 Command: /Library/Frameworks/R.framework/Resources/bin/R CMD build --keep-empty-dirs --no-resave-data GOpro StartedAt: 2025-04-21 16:31:02 -0400 (Mon, 21 Apr 2025) EndedAt: 2025-04-21 16:31:30 -0400 (Mon, 21 Apr 2025) EllapsedTime: 28.3 seconds RetCode: 0 Status: OK PackageFile: GOpro_1.34.0.tar.gz PackageFileSize: 1.056 MiB