Package: GOexpress Version: 1.40.0 Command: rm -rf GOexpress.buildbin-libdir && mkdir GOexpress.buildbin-libdir && F:\biocbuild\bbs-3.20-bioc\R\bin\R.exe CMD INSTALL --build --library=GOexpress.buildbin-libdir GOexpress_1.40.0.tar.gz StartedAt: 2025-01-31 08:46:47 -0500 (Fri, 31 Jan 2025) EndedAt: 2025-01-31 08:47:17 -0500 (Fri, 31 Jan 2025) EllapsedTime: 30.1 seconds RetCode: 0 Status: OK PackageFile: GOexpress_1.40.0.zip PackageFileSize: 2.894 MiB