Package: GOexpress Version: 1.42.0 Command: /home/biocbuild/R/R/bin/R CMD check --install=check:GOexpress.install-out.txt --library=/home/biocbuild/R/R/site-library --no-vignettes --timings GOexpress_1.42.0.tar.gz StartedAt: 2025-05-13 09:15:51 -0000 (Tue, 13 May 2025) EndedAt: 2025-05-13 09:18:30 -0000 (Tue, 13 May 2025) EllapsedTime: 159.2 seconds RetCode: 0 Status: WARNINGS CheckDir: GOexpress.Rcheck Warnings: 1