Package: GOexpress Version: 1.42.0 Command: /home/biocbuild/R/R/bin/R CMD build --keep-empty-dirs --no-resave-data GOexpress StartedAt: 2025-05-13 01:08:00 -0000 (Tue, 13 May 2025) EndedAt: 2025-05-13 01:08:46 -0000 (Tue, 13 May 2025) EllapsedTime: 46.0 seconds RetCode: 0 Status: OK PackageFile: GOexpress_1.42.0.tar.gz PackageFileSize: 2.336 MiB