Package: GOexpress Version: 1.42.0 Command: /Library/Frameworks/R.framework/Resources/bin/R CMD check --install=check:GOexpress.install-out.txt --library=/Library/Frameworks/R.framework/Resources/library --no-vignettes --timings GOexpress_1.42.0.tar.gz StartedAt: 2025-05-13 21:10:11 -0400 (Tue, 13 May 2025) EndedAt: 2025-05-13 21:12:31 -0400 (Tue, 13 May 2025) EllapsedTime: 140.2 seconds RetCode: 0 Status: WARNINGS CheckDir: GOexpress.Rcheck Warnings: 1