Package: GOexpress Version: 1.42.0 Command: rm -rf GOexpress.buildbin-libdir && mkdir GOexpress.buildbin-libdir && /Users/biocbuild/BBS/utils/build-universal.sh GOexpress_1.42.0.tar.gz /Library/Frameworks/R.framework/Resources/bin/R GOexpress.buildbin-libdir StartedAt: 2025-05-14 15:14:23 -0400 (Wed, 14 May 2025) EndedAt: 2025-05-14 15:14:46 -0400 (Wed, 14 May 2025) EllapsedTime: 22.5 seconds RetCode: 0 Status: OK PackageFile: GOexpress_1.42.0.tgz PackageFileSize: 2.892 MiB