Package: GOTHiC Version: 1.44.0 Command: rm -rf GOTHiC.buildbin-libdir && mkdir GOTHiC.buildbin-libdir && /Users/biocbuild/BBS/utils/build-universal.sh GOTHiC_1.44.0.tar.gz /Library/Frameworks/R.framework/Resources/bin/R GOTHiC.buildbin-libdir StartedAt: 2025-05-06 12:44:15 -0400 (Tue, 06 May 2025) EndedAt: 2025-05-06 12:45:38 -0400 (Tue, 06 May 2025) EllapsedTime: 83.7 seconds RetCode: 0 Status: OK PackageFile: GOTHiC_1.44.0.tgz PackageFileSize: 1.759 MiB