Package: GOTHiC Version: 1.44.0 Command: /Library/Frameworks/R.framework/Resources/bin/R CMD build --keep-empty-dirs --no-resave-data GOTHiC StartedAt: 2025-04-21 16:59:50 -0400 (Mon, 21 Apr 2025) EndedAt: 2025-04-21 17:00:37 -0400 (Mon, 21 Apr 2025) EllapsedTime: 46.8 seconds RetCode: 0 Status: OK PackageFile: GOTHiC_1.44.0.tar.gz PackageFileSize: 1.697 MiB