Package: GOTHiC Version: 1.44.0 Command: rm -rf GOTHiC.buildbin-libdir && mkdir GOTHiC.buildbin-libdir && /Users/biocbuild/BBS/utils/build-universal.sh GOTHiC_1.44.0.tar.gz /Library/Frameworks/R.framework/Resources/bin/R GOTHiC.buildbin-libdir StartedAt: 2025-04-22 00:48:26 -0400 (Tue, 22 Apr 2025) EndedAt: 2025-04-22 00:49:21 -0400 (Tue, 22 Apr 2025) EllapsedTime: 54.5 seconds RetCode: 0 Status: OK PackageFile: GOTHiC_1.44.0.tgz PackageFileSize: 1.76 MiB