Package: GOTHiC Version: 1.44.0 Command: /home/biocbuild/R/R/bin/R CMD build --keep-empty-dirs --no-resave-data GOTHiC StartedAt: 2025-05-06 01:13:09 -0000 (Tue, 06 May 2025) EndedAt: 2025-05-06 01:14:02 -0000 (Tue, 06 May 2025) EllapsedTime: 53.0 seconds RetCode: 0 Status: OK PackageFile: GOTHiC_1.44.0.tar.gz PackageFileSize: 1.686 MiB