Package: GOTHiC Version: 1.42.0 Command: rm -rf GOTHiC.buildbin-libdir && mkdir GOTHiC.buildbin-libdir && /Users/biocbuild/BBS/utils/build-universal.sh GOTHiC_1.42.0.tar.gz /Library/Frameworks/R.framework/Resources/bin/R GOTHiC.buildbin-libdir StartedAt: 2025-02-01 15:11:06 -0500 (Sat, 01 Feb 2025) EndedAt: 2025-02-01 15:11:53 -0500 (Sat, 01 Feb 2025) EllapsedTime: 47.7 seconds RetCode: 0 Status: OK PackageFile: GOTHiC_1.42.0.tgz PackageFileSize: 1.76 MiB