Package: GOSemSim Version: 2.34.0 Command: chmod a+r GOSemSim -R && E:\biocbuild\bbs-3.21-bioc\R\bin\R.exe CMD build --keep-empty-dirs --no-resave-data GOSemSim StartedAt: 2025-08-14 19:30:16 -0400 (Thu, 14 Aug 2025) EndedAt: 2025-08-14 19:30:58 -0400 (Thu, 14 Aug 2025) EllapsedTime: 42.5 seconds RetCode: 0 Status: OK PackageFile: GOSemSim_2.34.0.tar.gz PackageFileSize: 594.7 KiB