Package: GOSemSim Version: 2.34.0 Maintainer: Guangchuang Yu MaintainerEmail: guangchuangyu at gmail.com git_url: https://git.bioconductor.org/packages/GOSemSim git_branch: RELEASE_3_21 git_last_commit: 21ee191 git_last_commit_date: 2025-04-15 09:43:50 -0400 (Tue, 15 Apr 2025)