Package: GNOSIS Version: 1.4.0 Command: /home/biocbuild/R/R/bin/R CMD check --install=check:GNOSIS.install-out.txt --library=/home/biocbuild/R/R/site-library --no-vignettes --timings GNOSIS_1.4.0.tar.gz StartedAt: 2025-01-31 06:50:42 -0000 (Fri, 31 Jan 2025) EndedAt: 2025-01-31 06:57:51 -0000 (Fri, 31 Jan 2025) EllapsedTime: 429.3 seconds RetCode: 0 Status: WARNINGS CheckDir: GNOSIS.Rcheck Warnings: 1