Package: GNET2 Version: 1.22.0 Command: /home/biocbuild/R/R/bin/R CMD check --install=check:GNET2.install-out.txt --library=/home/biocbuild/R/R/site-library --no-vignettes --timings GNET2_1.22.0.tar.gz StartedAt: 2025-01-31 06:50:30 -0000 (Fri, 31 Jan 2025) EndedAt: 2025-01-31 06:53:35 -0000 (Fri, 31 Jan 2025) EllapsedTime: 185.1 seconds RetCode: 0 Status: OK CheckDir: GNET2.Rcheck Warnings: 0