Package: GNET2 Version: 1.22.0 Command: /home/biocbuild/R/R/bin/R CMD build --keep-empty-dirs --no-resave-data GNET2 StartedAt: 2025-02-04 00:01:24 -0000 (Tue, 04 Feb 2025) EndedAt: 2025-02-04 00:02:28 -0000 (Tue, 04 Feb 2025) EllapsedTime: 64.0 seconds RetCode: 0 Status: OK PackageFile: GNET2_1.22.0.tar.gz PackageFileSize: 913.7 KiB