Package: GNET2 Version: 1.24.0 Command: /home/biocbuild/bbs-3.21-bioc/R/bin/R CMD INSTALL GNET2 StartedAt: 2025-10-01 15:20:45 -0400 (Wed, 01 Oct 2025) EndedAt: 2025-10-01 15:21:19 -0400 (Wed, 01 Oct 2025) EllapsedTime: 33.8 seconds RetCode: 0 Status: OK