Package: GIGSEA Version: 1.24.0 Command: /home/biocbuild/R/R/bin/R CMD INSTALL GIGSEA StartedAt: 2025-01-30 20:06:22 -0000 (Thu, 30 Jan 2025) EndedAt: 2025-01-30 20:06:34 -0000 (Thu, 30 Jan 2025) EllapsedTime: 12.2 seconds RetCode: 0 Status: OK