Package: GIGSEA Version: 1.26.0 Command: E:\biocbuild\bbs-3.21-bioc\R\bin\R.exe CMD INSTALL GIGSEA StartedAt: 2025-08-14 15:23:45 -0400 (Thu, 14 Aug 2025) EndedAt: 2025-08-14 15:24:01 -0400 (Thu, 14 Aug 2025) EllapsedTime: 16.8 seconds RetCode: 0 Status: OK