Package: GIGSEA Version: 1.26.0 Command: rm -rf GIGSEA.buildbin-libdir && mkdir GIGSEA.buildbin-libdir && /Users/biocbuild/BBS/utils/build-universal.sh GIGSEA_1.26.0.tar.gz /Library/Frameworks/R.framework/Resources/bin/R GIGSEA.buildbin-libdir StartedAt: 2025-05-06 12:43:02 -0400 (Tue, 06 May 2025) EndedAt: 2025-05-06 12:43:15 -0400 (Tue, 06 May 2025) EllapsedTime: 13.2 seconds RetCode: 0 Status: OK PackageFile: GIGSEA_1.26.0.tgz PackageFileSize: 1.723 MiB