Package: GIGSEA Version: 1.24.0 Command: /Library/Frameworks/R.framework/Resources/bin/R CMD check --install=check:GIGSEA.install-out.txt --library=/Library/Frameworks/R.framework/Resources/library --no-vignettes --timings GIGSEA_1.24.0.tar.gz StartedAt: 2024-11-19 22:37:23 -0500 (Tue, 19 Nov 2024) EndedAt: 2024-11-19 22:42:08 -0500 (Tue, 19 Nov 2024) EllapsedTime: 284.7 seconds RetCode: 0 Status: OK CheckDir: GIGSEA.Rcheck Warnings: 0