Package: GIGSEA Version: 1.26.0 Command: /Library/Frameworks/R.framework/Resources/bin/R CMD build --keep-empty-dirs --no-resave-data GIGSEA StartedAt: 2025-04-21 16:28:53 -0400 (Mon, 21 Apr 2025) EndedAt: 2025-04-21 16:31:09 -0400 (Mon, 21 Apr 2025) EllapsedTime: 135.4 seconds RetCode: 0 Status: OK PackageFile: GIGSEA_1.26.0.tar.gz PackageFileSize: 1.325 MiB