Package: GEWIST Version: 1.52.0 Command: /Library/Frameworks/R.framework/Resources/bin/R CMD INSTALL GEWIST StartedAt: 2025-05-01 15:14:45 -0400 (Thu, 01 May 2025) EndedAt: 2025-05-01 15:15:11 -0400 (Thu, 01 May 2025) EllapsedTime: 26.7 seconds RetCode: 0 Status: OK