Package: GEWIST Version: 1.52.0 Command: /Library/Frameworks/R.framework/Resources/bin/R CMD build --keep-empty-dirs --no-resave-data GEWIST StartedAt: 2025-05-05 19:13:06 -0400 (Mon, 05 May 2025) EndedAt: 2025-05-05 19:16:14 -0400 (Mon, 05 May 2025) EllapsedTime: 188.0 seconds RetCode: 0 Status: OK PackageFile: GEWIST_1.52.0.tar.gz PackageFileSize: 386.8 KiB