Package: GEWIST Version: 1.52.0 Command: /Library/Frameworks/R.framework/Resources/bin/R CMD check --install=check:GEWIST.install-out.txt --library=/Library/Frameworks/R.framework/Resources/library --no-vignettes --timings GEWIST_1.52.0.tar.gz StartedAt: 2025-04-21 19:37:25 -0400 (Mon, 21 Apr 2025) EndedAt: 2025-04-21 19:37:47 -0400 (Mon, 21 Apr 2025) EllapsedTime: 22.2 seconds RetCode: 0 Status: OK CheckDir: GEWIST.Rcheck Warnings: 0