Package: GEWIST Version: 1.52.0 Command: rm -rf GEWIST.buildbin-libdir && mkdir GEWIST.buildbin-libdir && /Users/biocbuild/BBS/utils/build-universal.sh GEWIST_1.52.0.tar.gz /Library/Frameworks/R.framework/Resources/bin/R GEWIST.buildbin-libdir StartedAt: 2025-04-21 22:36:51 -0400 (Mon, 21 Apr 2025) EndedAt: 2025-04-21 22:36:53 -0400 (Mon, 21 Apr 2025) EllapsedTime: 2.1 seconds RetCode: 0 Status: OK PackageFile: GEWIST_1.52.0.tgz PackageFileSize: 412.2 KiB