Package: GEOsubmission Version: 1.60.0 Command: /home/biocbuild/R/R/bin/R CMD check --install=check:GEOsubmission.install-out.txt --library=/home/biocbuild/R/R/site-library --no-vignettes --timings GEOsubmission_1.60.0.tar.gz StartedAt: 2025-05-20 09:00:50 -0000 (Tue, 20 May 2025) EndedAt: 2025-05-20 09:01:30 -0000 (Tue, 20 May 2025) EllapsedTime: 40.0 seconds RetCode: 0 Status: OK CheckDir: GEOsubmission.Rcheck Warnings: 0