Package: GEOsubmission Version: 1.60.0 Command: /home/biocbuild/R/R/bin/R CMD build --keep-empty-dirs --no-resave-data GEOsubmission StartedAt: 2025-05-20 01:01:29 -0000 (Tue, 20 May 2025) EndedAt: 2025-05-20 01:01:37 -0000 (Tue, 20 May 2025) EllapsedTime: 8.0 seconds RetCode: 0 Status: OK PackageFile: GEOsubmission_1.60.0.tar.gz PackageFileSize: 186 KiB