Back to Multiple platform build/check report for BioC 3.22:   simplified   long
ABCDEF[G]HIJKLMNOPQRSTUVWXYZ

This page was generated on 2025-11-05 12:39 -0500 (Wed, 05 Nov 2025).

HostnameOSArch (*)R versionInstalled pkgs
nebbiolo2Linux (Ubuntu 24.04.3 LTS)x86_644.5.1 Patched (2025-08-23 r88802) -- "Great Square Root" 4902
kjohnson3macOS 13.7.7 Venturaarm644.5.1 Patched (2025-09-10 r88807) -- "Great Square Root" 4638
Click on any hostname to see more info about the system (e.g. compilers)      (*) as reported by 'uname -p', except on Windows and Mac OS X

All results for package GEOquery


To the developers/maintainers of the GEOquery package:
- Allow up to 24 hours (and sometimes 48 hours) for your latest push to git@git.bioconductor.org:packages/GEOquery.git to reflect on this report. See Troubleshooting Build Report for more information.
- Use the following Renviron settings to reproduce errors and warnings.
- If 'R CMD check' started to fail recently on the Linux builder(s) over a missing dependency, add the missing dependency to 'Suggests:' in your DESCRIPTION file. See Renviron.bioc for more information.

raw results

Package 864/2361HostnameOS / ArchINSTALLBUILDCHECKBUILD BIN
GEOquery 2.78.0  (landing page)
Sean Davis
Snapshot Date: 2025-11-04 13:45 -0500 (Tue, 04 Nov 2025)
git_url: https://git.bioconductor.org/packages/GEOquery
git_branch: RELEASE_3_22
git_last_commit: 3a4b52d
git_last_commit_date: 2025-10-29 09:57:26 -0500 (Wed, 29 Oct 2025)
nebbiolo2Linux (Ubuntu 24.04.3 LTS) / x86_64  OK    OK    WARNINGS  UNNEEDED, same version is already published
kjohnson3macOS 13.7.7 Ventura / arm64  OK    OK    WARNINGS    OK  UNNEEDED, same version is already published



Results for Bioconductor software packages that depend directly on package GEOquery

QUICK STATSOS / ArchINSTALLBUILDCHECKBUILD BIN
nebbiolo2Linux (Ubuntu 24.04.3 LTS) / x86_64
0012
0012
0228
kjohnson3macOS 13.7.7 Ventura / arm64
0012
0012
0228
0012
Package 1/12HostnameOS / ArchINSTALLBUILDCHECKBUILD BIN
bigmelon 1.36.0  (landing page)
Leonard C. Schalkwyk
git_last_commit: 8527321
git_last_commit_date: 2025-10-29 10:34:26 -0500
nebbiolo2Linux (Ubuntu 24.04.3 LTS) / x86_64  OK    OK    WARNINGS  UNNEEDED, same version is already published
kjohnson3macOS 13.7.7 Ventura / arm64  OK    OK    WARNINGS    OK  UNNEEDED, same version is already published
Package 2/12HostnameOS / ArchINSTALLBUILDCHECKBUILD BIN
ChIPXpress 1.54.0  (landing page)
George Wu
git_last_commit: 3886eb0
git_last_commit_date: 2025-10-29 10:11:43 -0500
nebbiolo2Linux (Ubuntu 24.04.3 LTS) / x86_64  OK    OK    OK  UNNEEDED, same version is already published
kjohnson3macOS 13.7.7 Ventura / arm64  OK    OK    OK    OK  UNNEEDED, same version is already published
Package 3/12HostnameOS / ArchINSTALLBUILDCHECKBUILD BIN
DExMA 1.18.0  (landing page)
Juan Antonio Villatoro-GarcĂ­a
git_last_commit: 55162f3
git_last_commit_date: 2025-10-29 11:09:00 -0500
nebbiolo2Linux (Ubuntu 24.04.3 LTS) / x86_64  OK    OK    OK  UNNEEDED, same version is already published
kjohnson3macOS 13.7.7 Ventura / arm64  OK    OK    OK    OK  UNNEEDED, same version is already published
Package 4/12HostnameOS / ArchINSTALLBUILDCHECKBUILD BIN
DrugVsDisease 2.52.0  (landing page)
j. Saez-Rodriguez
git_last_commit: 661b563
git_last_commit_date: 2025-10-29 10:13:26 -0500
nebbiolo2Linux (Ubuntu 24.04.3 LTS) / x86_64  OK    OK    OK  UNNEEDED, same version is already published
kjohnson3macOS 13.7.7 Ventura / arm64  OK    OK    ERROR    OK  
Package 5/12HostnameOS / ArchINSTALLBUILDCHECKBUILD BIN
EGAD 1.38.0  (landing page)
Sara Ballouz
git_last_commit: e4b84b7
git_last_commit_date: 2025-10-29 10:32:16 -0500
nebbiolo2Linux (Ubuntu 24.04.3 LTS) / x86_64  OK    OK    WARNINGS  UNNEEDED, same version is already published
kjohnson3macOS 13.7.7 Ventura / arm64  OK    OK    WARNINGS    OK  UNNEEDED, same version is already published
Package 6/12HostnameOS / ArchINSTALLBUILDCHECKBUILD BIN
GEOexplorer 1.16.0  (landing page)
Guy Hunt
git_last_commit: 95a2b2f
git_last_commit_date: 2025-10-29 11:11:17 -0500
nebbiolo2Linux (Ubuntu 24.04.3 LTS) / x86_64  OK    OK    ERROR  
kjohnson3macOS 13.7.7 Ventura / arm64  OK    OK    ERROR    OK  
Package 7/12HostnameOS / ArchINSTALLBUILDCHECKBUILD BIN
minfi 1.56.0  (landing page)
Kasper Daniel Hansen
git_last_commit: e6780b4
git_last_commit_date: 2025-10-29 10:09:18 -0500
nebbiolo2Linux (Ubuntu 24.04.3 LTS) / x86_64  OK    OK    OK  UNNEEDED, same version is already published
kjohnson3macOS 13.7.7 Ventura / arm64  OK    OK    OK    OK  UNNEEDED, same version is already published
Package 8/12HostnameOS / ArchINSTALLBUILDCHECKBUILD BIN
Moonlight2R 1.8.0  (landing page)
Matteo Tiberti
git_last_commit: 7f42b79
git_last_commit_date: 2025-10-29 11:25:19 -0500
nebbiolo2Linux (Ubuntu 24.04.3 LTS) / x86_64  OK    OK    OK  UNNEEDED, same version is already published
kjohnson3macOS 13.7.7 Ventura / arm64  OK    OK    OK    OK  UNNEEDED, same version is already published
Package 9/12HostnameOS / ArchINSTALLBUILDCHECKBUILD BIN
MoonlightR 1.36.0  (landing page)
Matteo Tiberti
git_last_commit: af4023f
git_last_commit_date: 2025-10-29 10:35:02 -0500
nebbiolo2Linux (Ubuntu 24.04.3 LTS) / x86_64  OK    OK    OK  UNNEEDED, same version is already published
kjohnson3macOS 13.7.7 Ventura / arm64  OK    OK    OK    OK  UNNEEDED, same version is already published
Package 10/12HostnameOS / ArchINSTALLBUILDCHECKBUILD BIN
phantasus 1.30.0  (landing page)
Alexey Sergushichev
git_last_commit: 7182df1
git_last_commit_date: 2025-10-29 10:44:01 -0500
nebbiolo2Linux (Ubuntu 24.04.3 LTS) / x86_64  OK    OK    ERROR  
kjohnson3macOS 13.7.7 Ventura / arm64  OK    OK    OK    OK  UNNEEDED, same version is already published
Package 11/12HostnameOS / ArchINSTALLBUILDCHECKBUILD BIN
recount 1.36.0  (landing page)
Leonardo Collado-Torres
git_last_commit: 42cbd6e
git_last_commit_date: 2025-10-29 10:33:35 -0500
nebbiolo2Linux (Ubuntu 24.04.3 LTS) / x86_64  OK    OK    OK  UNNEEDED, same version is already published
kjohnson3macOS 13.7.7 Ventura / arm64  OK    OK    OK    OK  UNNEEDED, same version is already published
Package 12/12HostnameOS / ArchINSTALLBUILDCHECKBUILD BIN
SCAN.UPC 2.52.0  (landing page)
Stephen R. Piccolo
git_last_commit: 8c4e126
git_last_commit_date: 2025-10-29 10:12:17 -0500
nebbiolo2Linux (Ubuntu 24.04.3 LTS) / x86_64  OK    OK    OK  UNNEEDED, same version is already published
kjohnson3macOS 13.7.7 Ventura / arm64  OK    OK    OK    OK  UNNEEDED, same version is already published