Package: GEOmetadb Version: 1.68.1 Command: /home/biocbuild/R/R/bin/R CMD check --install=check:GEOmetadb.install-out.txt --library=/home/biocbuild/R/R/site-library --no-vignettes --timings GEOmetadb_1.68.1.tar.gz StartedAt: 2025-01-31 06:39:34 -0000 (Fri, 31 Jan 2025) EndedAt: 2025-01-31 06:49:17 -0000 (Fri, 31 Jan 2025) EllapsedTime: 582.4 seconds RetCode: 0 Status: WARNINGS CheckDir: GEOmetadb.Rcheck Warnings: 1