Package: GEOmetadb Version: 1.68.1 Command: /home/biocbuild/R/R/bin/R CMD build --keep-empty-dirs --no-resave-data GEOmetadb StartedAt: 2025-01-30 23:52:28 -0000 (Thu, 30 Jan 2025) EndedAt: 2025-01-30 23:54:01 -0000 (Thu, 30 Jan 2025) EllapsedTime: 93.0 seconds RetCode: 0 Status: OK PackageFile: GEOmetadb_1.68.1.tar.gz PackageFileSize: 540.2 KiB