Package: GEOfastq Version: 1.14.0 Command: /Library/Frameworks/R.framework/Resources/bin/R CMD INSTALL GEOfastq StartedAt: 2025-01-30 15:29:13 -0500 (Thu, 30 Jan 2025) EndedAt: 2025-01-30 15:29:16 -0500 (Thu, 30 Jan 2025) EllapsedTime: 2.9 seconds RetCode: 0 Status: OK