Package: GEOfastq Version: 1.14.0 Command: /Library/Frameworks/R.framework/Resources/bin/R CMD check --install=check:GEOfastq.install-out.txt --library=/Library/Frameworks/R.framework/Resources/library --no-vignettes --timings GEOfastq_1.14.0.tar.gz StartedAt: 2025-01-31 20:38:24 -0500 (Fri, 31 Jan 2025) EndedAt: 2025-01-31 20:39:00 -0500 (Fri, 31 Jan 2025) EllapsedTime: 36.0 seconds RetCode: 0 Status: OK CheckDir: GEOfastq.Rcheck Warnings: 0