Package: GENESIS Version: 2.38.0 Command: /Library/Frameworks/R.framework/Resources/bin/R CMD INSTALL GENESIS StartedAt: 2025-04-21 15:22:45 -0400 (Mon, 21 Apr 2025) EndedAt: 2025-04-21 15:23:22 -0400 (Mon, 21 Apr 2025) EllapsedTime: 36.6 seconds RetCode: 0 Status: OK