Package: GENESIS Version: 2.38.0 Command: /Library/Frameworks/R.framework/Resources/bin/R CMD build --keep-empty-dirs --no-resave-data GENESIS StartedAt: 2025-04-21 16:53:58 -0400 (Mon, 21 Apr 2025) EndedAt: 2025-04-21 16:55:59 -0400 (Mon, 21 Apr 2025) EllapsedTime: 121.2 seconds RetCode: 0 Status: OK PackageFile: GENESIS_2.38.0.tar.gz PackageFileSize: 3.845 MiB