Package: GENESIS Version: 2.36.0 Command: /Library/Frameworks/R.framework/Resources/bin/R CMD build --keep-empty-dirs --no-resave-data GENESIS StartedAt: 2025-01-03 00:04:14 -0500 (Fri, 03 Jan 2025) EndedAt: 2025-01-03 00:06:17 -0500 (Fri, 03 Jan 2025) EllapsedTime: 122.9 seconds RetCode: 0 Status: OK PackageFile: GENESIS_2.36.0.tar.gz PackageFileSize: 3.845 MiB