Package: GEM Version: 1.34.0 Command: /Library/Frameworks/R.framework/Resources/bin/R CMD INSTALL GEM StartedAt: 2025-05-22 15:15:04 -0400 (Thu, 22 May 2025) EndedAt: 2025-05-22 15:15:34 -0400 (Thu, 22 May 2025) EllapsedTime: 30.1 seconds RetCode: 0 Status: OK