Package: GEM Version: 1.34.0 Maintainer: Hong Pan MaintainerEmail: pan_hong at sics.a-star.edu.sg git_url: https://git.bioconductor.org/packages/GEM git_branch: RELEASE_3_21 git_last_commit: eaa8b95 git_last_commit_date: 2025-04-15 11:02:26 -0400 (Tue, 15 Apr 2025)