Package: GDSArray Version: 1.28.0 Command: rm -rf GDSArray.buildbin-libdir && mkdir GDSArray.buildbin-libdir && E:\biocbuild\bbs-3.21-bioc\R\bin\R.exe CMD INSTALL --build --library=GDSArray.buildbin-libdir GDSArray_1.28.0.tar.gz StartedAt: 2025-08-15 09:20:05 -0400 (Fri, 15 Aug 2025) EndedAt: 2025-08-15 09:20:47 -0400 (Fri, 15 Aug 2025) EllapsedTime: 42.1 seconds RetCode: 0 Status: OK PackageFile: GDSArray_1.28.0.zip PackageFileSize: 667.5 KiB